BEGIN:VCALENDAR
VERSION:2.0
PRODID:-//The Postgraduate Psychoanalytic Society &amp; Institute - ECPv6.15.20//NONSGML v1.0//EN
CALSCALE:GREGORIAN
METHOD:PUBLISH
X-WR-CALNAME:The Postgraduate Psychoanalytic Society &amp; Institute
X-ORIGINAL-URL:https://postgradinstitute.org
X-WR-CALDESC:Events for The Postgraduate Psychoanalytic Society &amp; Institute
REFRESH-INTERVAL;VALUE=DURATION:PT1H
X-Robots-Tag:noindex
X-PUBLISHED-TTL:PT1H
BEGIN:VTIMEZONE
TZID:America/New_York
BEGIN:DAYLIGHT
TZOFFSETFROM:-0500
TZOFFSETTO:-0400
TZNAME:EDT
DTSTART:20210314T070000
END:DAYLIGHT
BEGIN:STANDARD
TZOFFSETFROM:-0400
TZOFFSETTO:-0500
TZNAME:EST
DTSTART:20211107T060000
END:STANDARD
BEGIN:DAYLIGHT
TZOFFSETFROM:-0500
TZOFFSETTO:-0400
TZNAME:EDT
DTSTART:20220313T070000
END:DAYLIGHT
BEGIN:STANDARD
TZOFFSETFROM:-0400
TZOFFSETTO:-0500
TZNAME:EST
DTSTART:20221106T060000
END:STANDARD
BEGIN:DAYLIGHT
TZOFFSETFROM:-0500
TZOFFSETTO:-0400
TZNAME:EDT
DTSTART:20230312T070000
END:DAYLIGHT
BEGIN:STANDARD
TZOFFSETFROM:-0400
TZOFFSETTO:-0500
TZNAME:EST
DTSTART:20231105T060000
END:STANDARD
END:VTIMEZONE
BEGIN:VEVENT
DTSTART;TZID=America/New_York:20220125T174500
DTEND;TZID=America/New_York:20220125T190000
DTSTAMP:20260424T171341
CREATED:20220111T161116Z
LAST-MODIFIED:20220111T165526Z
UID:10000011-1643132700-1643137200@postgradinstitute.org
SUMMARY:The Foundations of  Psychoanalytic Discourse
DESCRIPTION:The Postgraduate Psychoanalytic Society & Institute\nwith MPG consulting\n\npresents: Winter Trimester\, 2022\n\nContinuing Education Course on Zoom\n\n10 sessions\, 15 CE Credit Hours\, Tuesdays 5:45PM — 7:00PM\, ( January\, 25th — March\,29th\, 2022)\n\n\nThe Foundations of Psychoanalytic Discourse\n\nwith\nElliot Adler\, PhD.\,ADPP\n  \n\n\nIn this 10 week course\, Dr Adler will attempt to present what he believes are the fundamental understandings\, beliefs and perspectives that uniquely define and organize a contemporary psychoanalytic approach to therapy. In attempting to synthesize his almost half-century of experience as a psychoanalytic clinician\, he will offer a vision of the therapeutic work that is as free of jargon and tendentious theoretical bias as possible.\n\nTraditional therapeutic concepts\, such as transference\, defense\, resistance\, counter-transference\, interpretation\, etc. will be considered from the way these abstract conceptualizations reflect observable events that arise and must be addressed in specific analytic contexts. A central theme that will be developed in this course will emphasize how all psychological meaning is embedded in unique contexts of experience that must first be discovered and described in communicable language in order to achieve enduring therapeutic effects.\n\nLearning Objectives:\n\nFor students to understand the specific elements of a psychoanalytic relationship that define a psychoanalytic treatment distinguished from other modes of psychotherapy.\nTo identify ways of confirming the relevance and appropriateness of our therapeutic interventions.\nTo provide students with a historical context within which to understand how contemporary psychoanalytic ways of approaching the work have emerged and evolved.\n\nAbout Presenter:\nDr. Elliot Adler\, PhD\,.ABPP is a Faculty member and Senior Supervisor and Training Analyst at the Postgraduate Psychoanalytic Society & Institute. He was its founding member in 1981 and was a past President in 1983 – 1985. Dr. Adler graduated from The Postgraduate Psychoanalytic Institute in 1974\, and has pursued a career as a teacher\, administrator\, supervisor\, and analytic clinician in private practice\, for almost half a century. He has served as the Associate Dean of Training at the Postgraduate Center for Mental Health; Director of the Westchester Center for the Study of Psychoanalysis and Psychotherapy; President of the Section on Psychoanalysis of Division 39 of the American Psychological Association\, Dedicated Psychoanalytic educator and clinician\, Dr. Adler has taught and contributed to psychoanalytic training and education\, not only regionally but also on a national level. He has held faculty positions at many psychoanalytic training centers in New York and in the US. With co-author Janet Bachant\, he published a book on technique\, Working In-Depth; A Clinician’s Guide to Framework and Flexibility in the Psychoanalytic Relationship. In recent years\, he has collaborated on developing a series of theatrical performances dramatizing the early history of the psychoanalytic movement.\n\n\n  \nPlease use this registration form\n  \n\n\nDates and Time\nThis 10 sessions Course ( Jan. 29th — March\, 29th\, 2022) will be offered on Tuesdays\,at 5:45pm — 7;00pm\,  on:\n         January\, 25\n         February\, 1\, 8\, 15\, 22\,\n         March\, 1 \,8\, 15\, 22\, 29\n\nPlace: This course will be presented on Zoom\n\nCost: \nGeneral Public Admission\, $325\, PPSI Member\, $225\, Student\, $125\nMake check payable to:\n  The Postgraduate Psychoanalytic Society-Institute ( PPSI)\nMail check to: PO Box 2031\, Madison Square Station\, NY\, NY 10010\nInclude your information for registration.\n\nRegistration: \n  Name\, Address\, Tel. #\, Email address\, NY State License type and number\, Affiliation should be included for registration.\n\nInformation Contact: Nobuko Meaders\, LCSW\n  < nobukomeaders@gmail.com>\, Tel. #: 212-228-6988\n\nThis Program is approved for 15 CE Credit Hours.\nMPG Consulting is an approved provider of continuing education for Licensed Social Worker (#0119) and for Licensed Psychoanalysts(#P-0034).\nMPG Consulting\, LCSW\,PLLC is recognized by the New York State Education Department’s State Board for Mental Health.\n<
URL:https://postgradinstitute.org/event/the-foundations-of-psychoanalytic-discourse/
CATEGORIES:2022 ,Winter 2022
END:VEVENT
END:VCALENDAR